Package: flowPlots Version: 1.57.0 Command: /Library/Frameworks/R.framework/Resources/bin/R CMD check --install=check:flowPlots.install-out.txt --library=/Library/Frameworks/R.framework/Resources/library --no-vignettes --timings flowPlots_1.57.0.tar.gz StartedAt: 2025-10-01 19:38:35 -0400 (Wed, 01 Oct 2025) EndedAt: 2025-10-01 19:38:50 -0400 (Wed, 01 Oct 2025) EllapsedTime: 15.2 seconds RetCode: 0 Status: OK CheckDir: flowPlots.Rcheck Warnings: 0