Package: flowPlots Version: 1.57.0 Command: /Library/Frameworks/R.framework/Resources/bin/R CMD build --keep-empty-dirs --no-resave-data flowPlots StartedAt: 2025-10-02 16:24:30 -0400 (Thu, 02 Oct 2025) EndedAt: 2025-10-02 16:24:36 -0400 (Thu, 02 Oct 2025) EllapsedTime: 6.1 seconds RetCode: 0 Status: OK PackageFile: flowPlots_1.57.0.tar.gz PackageFileSize: 635.3 KiB