Package: flowPloidy Version: 1.35.0 Command: /home/biocbuild/R/R/bin/R CMD check --install=check:flowPloidy.install-out.txt --library=/home/biocbuild/R/R/site-library --no-vignettes --timings flowPloidy_1.35.0.tar.gz StartedAt: 2025-10-17 09:05:35 -0000 (Fri, 17 Oct 2025) EndedAt: 2025-10-17 09:06:56 -0000 (Fri, 17 Oct 2025) EllapsedTime: 81.1 seconds RetCode: 0 Status: OK CheckDir: flowPloidy.Rcheck Warnings: 0