Package: flowPloidy Version: 1.35.0 Command: /home/biocbuild/R/R/bin/R CMD build --keep-empty-dirs --no-resave-data flowPloidy StartedAt: 2025-10-20 23:49:41 -0000 (Mon, 20 Oct 2025) EndedAt: 2025-10-20 23:50:15 -0000 (Mon, 20 Oct 2025) EllapsedTime: 34.0 seconds RetCode: 0 Status: OK PackageFile: flowPloidy_1.35.0.tar.gz PackageFileSize: 2.315 MiB