Package: flowPloidy Version: 1.35.0 Command: /Library/Frameworks/R.framework/Resources/bin/R CMD check --install=check:flowPloidy.install-out.txt --library=/Library/Frameworks/R.framework/Resources/library --no-vignettes --timings flowPloidy_1.35.0.tar.gz StartedAt: 2025-10-24 21:17:22 -0400 (Fri, 24 Oct 2025) EndedAt: 2025-10-24 21:18:49 -0400 (Fri, 24 Oct 2025) EllapsedTime: 87.4 seconds RetCode: 0 Status: OK CheckDir: flowPloidy.Rcheck Warnings: 0