Package: flowPloidy Version: 1.35.0 Command: /Library/Frameworks/R.framework/Resources/bin/R CMD build --keep-empty-dirs --no-resave-data flowPloidy StartedAt: 2025-10-24 17:07:18 -0400 (Fri, 24 Oct 2025) EndedAt: 2025-10-24 17:07:59 -0400 (Fri, 24 Oct 2025) EllapsedTime: 41.2 seconds RetCode: 0 Status: OK PackageFile: flowPloidy_1.35.0.tar.gz PackageFileSize: 2.332 MiB