Package: flowPloidy Version: 1.35.0 Command: rm -rf flowPloidy.buildbin-libdir && mkdir flowPloidy.buildbin-libdir && /Users/biocbuild/BBS/utils/build-universal.sh flowPloidy_1.35.0.tar.gz /Library/Frameworks/R.framework/Resources/bin/R flowPloidy.buildbin-libdir StartedAt: 2025-10-25 01:40:40 -0400 (Sat, 25 Oct 2025) EndedAt: 2025-10-25 01:41:01 -0400 (Sat, 25 Oct 2025) EllapsedTime: 20.8 seconds RetCode: 0 Status: OK PackageFile: flowPloidy_1.35.0.tgz PackageFileSize: 1.656 MiB