Package: flowPeaks Version: 1.55.0 Command: /home/biocbuild/R/R/bin/R CMD INSTALL flowPeaks StartedAt: 2025-10-16 21:07:58 -0000 (Thu, 16 Oct 2025) EndedAt: 2025-10-16 21:08:28 -0000 (Thu, 16 Oct 2025) EllapsedTime: 29.6 seconds RetCode: 0 Status: OK