Package: flowPeaks Version: 1.55.0 Command: /home/biocbuild/R/R/bin/R CMD check --install=check:flowPeaks.install-out.txt --library=/home/biocbuild/R/R/site-library --no-vignettes --timings flowPeaks_1.55.0.tar.gz StartedAt: 2025-10-17 09:05:08 -0000 (Fri, 17 Oct 2025) EndedAt: 2025-10-17 09:05:35 -0000 (Fri, 17 Oct 2025) EllapsedTime: 27.0 seconds RetCode: 0 Status: OK CheckDir: flowPeaks.Rcheck Warnings: 0