Package: flowPeaks Version: 1.55.0 Command: /home/biocbuild/R/R/bin/R CMD build --keep-empty-dirs --no-resave-data flowPeaks StartedAt: 2025-10-20 23:49:32 -0000 (Mon, 20 Oct 2025) EndedAt: 2025-10-20 23:50:02 -0000 (Mon, 20 Oct 2025) EllapsedTime: 30.0 seconds RetCode: 0 Status: OK PackageFile: flowPeaks_1.55.0.tar.gz PackageFileSize: 2.654 MiB