Package: flowPeaks Version: 1.55.0 Command: F:\biocbuild\bbs-3.22-bioc\R\bin\R.exe CMD check --no-multiarch --install=check:flowPeaks.install-out.txt --library=F:\biocbuild\bbs-3.22-bioc\R\library --no-vignettes --timings flowPeaks_1.55.0.tar.gz StartedAt: 2025-08-15 03:19:23 -0400 (Fri, 15 Aug 2025) EndedAt: 2025-08-15 03:20:27 -0400 (Fri, 15 Aug 2025) EllapsedTime: 64.4 seconds RetCode: 0 Status: OK CheckDir: flowPeaks.Rcheck Warnings: 0