Package: flowPeaks Version: 1.55.0 Command: rm -rf flowPeaks.buildbin-libdir && mkdir flowPeaks.buildbin-libdir && F:\biocbuild\bbs-3.22-bioc\R\bin\R.exe CMD INSTALL --build --library=flowPeaks.buildbin-libdir flowPeaks_1.55.0.tar.gz StartedAt: 2025-08-15 10:17:20 -0400 (Fri, 15 Aug 2025) EndedAt: 2025-08-15 10:19:29 -0400 (Fri, 15 Aug 2025) EllapsedTime: 128.8 seconds RetCode: 0 Status: OK PackageFile: flowPeaks_1.55.0.zip PackageFileSize: 2.092 MiB