Package: flowPeaks Version: 1.55.0 Command: /home/biocbuild/bbs-3.22-bioc/R/bin/R CMD INSTALL flowPeaks StartedAt: 2025-10-22 15:01:59 -0400 (Wed, 22 Oct 2025) EndedAt: 2025-10-22 15:02:15 -0400 (Wed, 22 Oct 2025) EllapsedTime: 16.7 seconds RetCode: 0 Status: OK