Package: flowPeaks Version: 1.55.0 Command: /Library/Frameworks/R.framework/Resources/bin/R CMD INSTALL flowPeaks StartedAt: 2025-10-24 15:12:06 -0400 (Fri, 24 Oct 2025) EndedAt: 2025-10-24 15:12:26 -0400 (Fri, 24 Oct 2025) EllapsedTime: 20.0 seconds RetCode: 0 Status: OK