Package: flowMerge Version: 2.57.0 Command: F:\biocbuild\bbs-3.22-bioc\R\bin\R.exe CMD check --no-multiarch --install=check:flowMerge.install-out.txt --library=F:\biocbuild\bbs-3.22-bioc\R\library --no-vignettes --timings flowMerge_2.57.0.tar.gz StartedAt: 2025-08-15 03:19:13 -0400 (Fri, 15 Aug 2025) EndedAt: 2025-08-15 03:21:02 -0400 (Fri, 15 Aug 2025) EllapsedTime: 108.8 seconds RetCode: 0 Status: WARNINGS CheckDir: flowMerge.Rcheck Warnings: 1