Package: flowMerge Version: 2.57.0 Command: /Library/Frameworks/R.framework/Resources/bin/R CMD INSTALL flowMerge StartedAt: 2025-10-19 15:48:54 -0400 (Sun, 19 Oct 2025) EndedAt: 2025-10-19 15:49:27 -0400 (Sun, 19 Oct 2025) EllapsedTime: 32.5 seconds RetCode: 0 Status: OK