Package: flowMerge Version: 2.57.0 Command: /Library/Frameworks/R.framework/Resources/bin/R CMD check --install=check:flowMerge.install-out.txt --library=/Library/Frameworks/R.framework/Resources/library --no-vignettes --timings flowMerge_2.57.0.tar.gz StartedAt: 2025-10-19 22:22:58 -0400 (Sun, 19 Oct 2025) EndedAt: 2025-10-19 22:25:41 -0400 (Sun, 19 Oct 2025) EllapsedTime: 162.5 seconds RetCode: 0 Status: WARNINGS CheckDir: flowMerge.Rcheck Warnings: 1