Package: flowMerge Version: 2.57.0 Command: /Library/Frameworks/R.framework/Resources/bin/R CMD build --keep-empty-dirs --no-resave-data flowMerge StartedAt: 2025-10-20 17:11:50 -0400 (Mon, 20 Oct 2025) EndedAt: 2025-10-20 17:13:00 -0400 (Mon, 20 Oct 2025) EllapsedTime: 70.5 seconds RetCode: 0 Status: OK PackageFile: flowMerge_2.57.0.tar.gz PackageFileSize: 630.8 KiB