Package: flowMerge Version: 2.57.0 Command: rm -rf flowMerge.buildbin-libdir && mkdir flowMerge.buildbin-libdir && /Users/biocbuild/BBS/utils/build-universal.sh flowMerge_2.57.0.tar.gz /Library/Frameworks/R.framework/Resources/bin/R flowMerge.buildbin-libdir StartedAt: 2025-10-21 03:12:15 -0400 (Tue, 21 Oct 2025) EndedAt: 2025-10-21 03:12:52 -0400 (Tue, 21 Oct 2025) EllapsedTime: 37.3 seconds RetCode: 0 Status: OK PackageFile: flowMerge_2.57.0.tgz PackageFileSize: 1.055 MiB