Package: flowMeans Version: 1.69.0 Command: /home/biocbuild/bbs-3.22-bioc/R/bin/R CMD INSTALL flowMeans StartedAt: 2025-10-20 15:12:31 -0400 (Mon, 20 Oct 2025) EndedAt: 2025-10-20 15:12:45 -0400 (Mon, 20 Oct 2025) EllapsedTime: 14.2 seconds RetCode: 0 Status: OK