Package: flowMeans Version: 1.69.0 Command: /home/biocbuild/bbs-3.22-bioc/R/bin/R CMD build --keep-empty-dirs --no-resave-data --md5 flowMeans StartedAt: 2025-10-20 17:36:45 -0400 (Mon, 20 Oct 2025) EndedAt: 2025-10-20 17:37:10 -0400 (Mon, 20 Oct 2025) EllapsedTime: 25.0 seconds RetCode: 0 Status: OK PackageFile: flowMeans_1.69.0.tar.gz PackageFileSize: 3.285 MiB