Package: flowMeans Version: 1.69.0 Command: /Library/Frameworks/R.framework/Resources/bin/R CMD INSTALL flowMeans StartedAt: 2025-10-21 15:17:48 -0400 (Tue, 21 Oct 2025) EndedAt: 2025-10-21 15:18:26 -0400 (Tue, 21 Oct 2025) EllapsedTime: 38.1 seconds RetCode: 0 Status: OK