Package: flowMeans Version: 1.69.0 Command: rm -rf flowMeans.buildbin-libdir && mkdir flowMeans.buildbin-libdir && /Users/biocbuild/BBS/utils/build-universal.sh flowMeans_1.69.0.tar.gz /Library/Frameworks/R.framework/Resources/bin/R flowMeans.buildbin-libdir StartedAt: 2025-10-22 02:25:19 -0400 (Wed, 22 Oct 2025) EndedAt: 2025-10-22 02:25:50 -0400 (Wed, 22 Oct 2025) EllapsedTime: 30.3 seconds RetCode: 0 Status: OK PackageFile: flowMeans_1.69.0.tgz PackageFileSize: 3.544 MiB