Package: flowMeans Version: 1.69.0 Command: /Library/Frameworks/R.framework/Resources/bin/R CMD check --install=check:flowMeans.install-out.txt --library=/Library/Frameworks/R.framework/Resources/library --no-vignettes --timings flowMeans_1.69.0.tar.gz StartedAt: 2025-10-20 19:45:41 -0400 (Mon, 20 Oct 2025) EndedAt: 2025-10-20 19:46:31 -0400 (Mon, 20 Oct 2025) EllapsedTime: 49.6 seconds RetCode: 0 Status: OK CheckDir: flowMeans.Rcheck Warnings: 0