Package: flowMeans Version: 1.69.0 Command: /Library/Frameworks/R.framework/Resources/bin/R CMD build --keep-empty-dirs --no-resave-data flowMeans StartedAt: 2025-10-20 16:24:28 -0400 (Mon, 20 Oct 2025) EndedAt: 2025-10-20 16:24:41 -0400 (Mon, 20 Oct 2025) EllapsedTime: 13.1 seconds RetCode: 0 Status: OK PackageFile: flowMeans_1.69.0.tar.gz PackageFileSize: 3.284 MiB