Package: flowMatch Version: 1.45.0 Command: /home/biocbuild/bbs-3.22-bioc/R/bin/R CMD INSTALL flowMatch StartedAt: 2025-10-19 15:14:53 -0400 (Sun, 19 Oct 2025) EndedAt: 2025-10-19 15:15:18 -0400 (Sun, 19 Oct 2025) EllapsedTime: 25.4 seconds RetCode: 0 Status: OK