Package: flowMatch Version: 1.45.0 Command: /home/biocbuild/bbs-3.22-bioc/R/bin/R CMD build --keep-empty-dirs --no-resave-data --md5 flowMatch StartedAt: 2025-10-19 17:41:05 -0400 (Sun, 19 Oct 2025) EndedAt: 2025-10-19 17:41:47 -0400 (Sun, 19 Oct 2025) EllapsedTime: 42.1 seconds RetCode: 0 Status: OK PackageFile: flowMatch_1.45.0.tar.gz PackageFileSize: 3.677 MiB