Package: flowMatch Version: 1.45.0 Command: /Library/Frameworks/R.framework/Resources/bin/R CMD INSTALL flowMatch StartedAt: 2025-10-20 15:07:37 -0400 (Mon, 20 Oct 2025) EndedAt: 2025-10-20 15:07:47 -0400 (Mon, 20 Oct 2025) EllapsedTime: 9.3 seconds RetCode: 0 Status: OK