Package: flowGraph Version: 1.17.0 Command: /home/biocbuild/R/R/bin/R CMD build --keep-empty-dirs --no-resave-data flowGraph StartedAt: 2025-10-20 23:49:00 -0000 (Mon, 20 Oct 2025) EndedAt: 2025-10-20 23:49:59 -0000 (Mon, 20 Oct 2025) EllapsedTime: 59.0 seconds RetCode: 0 Status: OK PackageFile: flowGraph_1.17.0.tar.gz PackageFileSize: 1.638 MiB