Package: flowGraph Version: 1.17.0 Command: /home/biocbuild/bbs-3.22-bioc/R/bin/R CMD INSTALL flowGraph StartedAt: 2025-10-19 15:11:25 -0400 (Sun, 19 Oct 2025) EndedAt: 2025-10-19 15:11:42 -0400 (Sun, 19 Oct 2025) EllapsedTime: 16.3 seconds RetCode: 0 Status: OK