Package: flowGraph Version: 1.17.0 Command: /home/biocbuild/bbs-3.22-bioc/R/bin/R CMD check --install=check:flowGraph.install-out.txt --library=/home/biocbuild/bbs-3.22-bioc/R/site-library --timings flowGraph_1.17.0.tar.gz StartedAt: 2025-10-19 23:57:03 -0400 (Sun, 19 Oct 2025) EndedAt: 2025-10-20 00:01:24 -0400 (Mon, 20 Oct 2025) EllapsedTime: 261.3 seconds RetCode: 0 Status: OK CheckDir: flowGraph.Rcheck Warnings: 0