Package: flowGraph Version: 1.17.0 Command: /home/biocbuild/bbs-3.22-bioc/R/bin/R CMD build --keep-empty-dirs --no-resave-data --md5 flowGraph StartedAt: 2025-10-19 17:40:57 -0400 (Sun, 19 Oct 2025) EndedAt: 2025-10-19 17:41:38 -0400 (Sun, 19 Oct 2025) EllapsedTime: 41.1 seconds RetCode: 0 Status: OK PackageFile: flowGraph_1.17.0.tar.gz PackageFileSize: 2.161 MiB