Package: flowGraph Version: 1.17.0 Command: /Library/Frameworks/R.framework/Resources/bin/R CMD check --install=check:flowGraph.install-out.txt --library=/Library/Frameworks/R.framework/Resources/library --no-vignettes --timings flowGraph_1.17.0.tar.gz StartedAt: 2025-10-19 22:22:37 -0400 (Sun, 19 Oct 2025) EndedAt: 2025-10-19 22:28:39 -0400 (Sun, 19 Oct 2025) EllapsedTime: 361.4 seconds RetCode: 0 Status: OK CheckDir: flowGraph.Rcheck Warnings: 0