Package: flowGraph Version: 1.17.0 Command: /Library/Frameworks/R.framework/Resources/bin/R CMD INSTALL flowGraph StartedAt: 2025-10-19 15:05:47 -0400 (Sun, 19 Oct 2025) EndedAt: 2025-10-19 15:05:58 -0400 (Sun, 19 Oct 2025) EllapsedTime: 11.3 seconds RetCode: 0 Status: OK