Package: flowGraph Version: 1.17.0 Command: /Library/Frameworks/R.framework/Resources/bin/R CMD build --keep-empty-dirs --no-resave-data flowGraph StartedAt: 2025-10-19 16:24:09 -0400 (Sun, 19 Oct 2025) EndedAt: 2025-10-19 16:24:27 -0400 (Sun, 19 Oct 2025) EllapsedTime: 18.2 seconds RetCode: 0 Status: OK PackageFile: flowGraph_1.17.0.tar.gz PackageFileSize: 2.221 MiB