Package: flowGate Version: 1.9.0 Command: chmod a+r flowGate -R && F:\biocbuild\bbs-3.22-bioc\R\bin\R.exe CMD build --keep-empty-dirs --no-resave-data flowGate StartedAt: 2025-08-14 20:14:09 -0400 (Thu, 14 Aug 2025) EndedAt: 2025-08-14 20:16:55 -0400 (Thu, 14 Aug 2025) EllapsedTime: 166.4 seconds RetCode: 0 Status: OK PackageFile: flowGate_1.9.0.tar.gz PackageFileSize: 1.897 MiB