Package: flowGate Version: 1.9.0 Command: rm -rf flowGate.buildbin-libdir && mkdir flowGate.buildbin-libdir && F:\biocbuild\bbs-3.22-bioc\R\bin\R.exe CMD INSTALL --build --library=flowGate.buildbin-libdir flowGate_1.9.0.tar.gz StartedAt: 2025-08-15 10:17:06 -0400 (Fri, 15 Aug 2025) EndedAt: 2025-08-15 10:17:34 -0400 (Fri, 15 Aug 2025) EllapsedTime: 28.3 seconds RetCode: 0 Status: OK PackageFile: flowGate_1.9.0.zip PackageFileSize: 1.174 MiB