Package: flowGate Version: 1.9.0 Command: /home/biocbuild/bbs-3.22-bioc/R/bin/R CMD check --install=check:flowGate.install-out.txt --library=/home/biocbuild/bbs-3.22-bioc/R/site-library --timings flowGate_1.9.0.tar.gz StartedAt: 2025-10-19 23:56:57 -0400 (Sun, 19 Oct 2025) EndedAt: 2025-10-19 23:58:41 -0400 (Sun, 19 Oct 2025) EllapsedTime: 104.2 seconds RetCode: 0 Status: OK CheckDir: flowGate.Rcheck Warnings: 0