Package: flowGate Version: 1.10.0 Command: /Library/Frameworks/R.framework/Resources/bin/R CMD check --install=check:flowGate.install-out.txt --library=/Library/Frameworks/R.framework/Resources/library --no-vignettes --timings flowGate_1.10.0.tar.gz StartedAt: 2025-10-31 21:17:13 -0400 (Fri, 31 Oct 2025) EndedAt: 2025-10-31 21:19:03 -0400 (Fri, 31 Oct 2025) EllapsedTime: 110.1 seconds RetCode: 0 Status: OK CheckDir: flowGate.Rcheck Warnings: 0