Package: flowGate Version: 1.9.0 Command: /Library/Frameworks/R.framework/Resources/bin/R CMD INSTALL flowGate StartedAt: 2025-10-20 15:10:08 -0400 (Mon, 20 Oct 2025) EndedAt: 2025-10-20 15:10:14 -0400 (Mon, 20 Oct 2025) EllapsedTime: 5.8 seconds RetCode: 0 Status: OK