Package: flowGate Version: 1.9.0 Command: /Library/Frameworks/R.framework/Resources/bin/R CMD check --install=check:flowGate.install-out.txt --library=/Library/Frameworks/R.framework/Resources/library --no-vignettes --timings flowGate_1.9.0.tar.gz StartedAt: 2025-10-19 19:43:42 -0400 (Sun, 19 Oct 2025) EndedAt: 2025-10-19 19:44:19 -0400 (Sun, 19 Oct 2025) EllapsedTime: 37.6 seconds RetCode: 0 Status: OK CheckDir: flowGate.Rcheck Warnings: 0