Package: flowGate Version: 1.9.0 Command: /Library/Frameworks/R.framework/Resources/bin/R CMD build --keep-empty-dirs --no-resave-data flowGate StartedAt: 2025-10-19 16:24:03 -0400 (Sun, 19 Oct 2025) EndedAt: 2025-10-19 16:24:16 -0400 (Sun, 19 Oct 2025) EllapsedTime: 13.2 seconds RetCode: 0 Status: OK PackageFile: flowGate_1.9.0.tar.gz PackageFileSize: 2.405 MiB