Package: flowFP Version: 1.67.0 Command: /home/biocbuild/R/R/bin/R CMD check --install=check:flowFP.install-out.txt --library=/home/biocbuild/R/R/site-library --no-vignettes --timings flowFP_1.67.0.tar.gz StartedAt: 2025-10-17 09:04:15 -0000 (Fri, 17 Oct 2025) EndedAt: 2025-10-17 09:05:48 -0000 (Fri, 17 Oct 2025) EllapsedTime: 93.1 seconds RetCode: 0 Status: OK CheckDir: flowFP.Rcheck Warnings: 0