Package: flowDensity Version: 1.43.0 Command: /home/biocbuild/bbs-3.22-bioc/R/bin/R CMD INSTALL flowDensity StartedAt: 2025-10-19 15:14:54 -0400 (Sun, 19 Oct 2025) EndedAt: 2025-10-19 15:15:03 -0400 (Sun, 19 Oct 2025) EllapsedTime: 9.6 seconds RetCode: 0 Status: OK