Package: flowDensity Version: 1.43.0 Command: /Library/Frameworks/R.framework/Resources/bin/R CMD check --install=check:flowDensity.install-out.txt --library=/Library/Frameworks/R.framework/Resources/library --no-vignettes --timings flowDensity_1.43.0.tar.gz StartedAt: 2025-10-19 19:43:28 -0400 (Sun, 19 Oct 2025) EndedAt: 2025-10-19 19:43:52 -0400 (Sun, 19 Oct 2025) EllapsedTime: 24.3 seconds RetCode: 0 Status: WARNINGS CheckDir: flowDensity.Rcheck Warnings: 3