Package: flowDensity Version: 1.43.0 Command: rm -rf flowDensity.buildbin-libdir && mkdir flowDensity.buildbin-libdir && /Users/biocbuild/BBS/utils/build-universal.sh flowDensity_1.43.0.tar.gz /Library/Frameworks/R.framework/Resources/bin/R flowDensity.buildbin-libdir StartedAt: 2025-10-19 22:59:44 -0400 (Sun, 19 Oct 2025) EndedAt: 2025-10-19 22:59:49 -0400 (Sun, 19 Oct 2025) EllapsedTime: 5.1 seconds RetCode: 0 Status: OK PackageFile: flowDensity_1.43.0.tgz PackageFileSize: 4.489 MiB