Package: flowCut Version: 1.19.0 Command: /home/biocbuild/R/R/bin/R CMD INSTALL flowCut StartedAt: 2025-10-20 20:26:34 -0000 (Mon, 20 Oct 2025) EndedAt: 2025-10-20 20:26:45 -0000 (Mon, 20 Oct 2025) EllapsedTime: 10.7 seconds RetCode: 0 Status: OK