Package: flowCut Version: 1.19.0 Command: /Library/Frameworks/R.framework/Resources/bin/R CMD check --install=check:flowCut.install-out.txt --library=/Library/Frameworks/R.framework/Resources/library --no-vignettes --timings flowCut_1.19.0.tar.gz StartedAt: 2025-10-21 22:00:52 -0400 (Tue, 21 Oct 2025) EndedAt: 2025-10-21 22:02:34 -0400 (Tue, 21 Oct 2025) EllapsedTime: 102.1 seconds RetCode: 0 Status: OK CheckDir: flowCut.Rcheck Warnings: 0