Package: flowCut Version: 1.19.0 Command: /Library/Frameworks/R.framework/Resources/bin/R CMD INSTALL flowCut StartedAt: 2025-10-22 15:07:52 -0400 (Wed, 22 Oct 2025) EndedAt: 2025-10-22 15:07:56 -0400 (Wed, 22 Oct 2025) EllapsedTime: 4.0 seconds RetCode: 0 Status: OK