Package: flowClust Version: 3.47.0 Command: /home/biocbuild/bbs-3.22-bioc/R/bin/R CMD INSTALL flowClust StartedAt: 2025-10-19 15:15:48 -0400 (Sun, 19 Oct 2025) EndedAt: 2025-10-19 15:17:24 -0400 (Sun, 19 Oct 2025) EllapsedTime: 96.0 seconds RetCode: 0 Status: OK